BEGIN:VCALENDAR
VERSION:2.0
PRODID: -//Q4 Inc.//EN
METHOD:PUBLISH
BEGIN:VTIMEZONE
TZID:America/New_York
X-LIC-LOCATION:America/New_York
BEGIN:DAYLIGHT
TZOFFSETFROM:-0500
TZOFFSETTO:-0400
TZNAME:EDT
DTSTART:19700308T020000
RRULE:FREQ=YEARLY;BYMONTH=3;BYDAY=2SU
END:DAYLIGHT
BEGIN:STANDARD
TZOFFSETFROM:-0400
TZOFFSETTO:-0500
TZNAME:EST
DTSTART:19701101T020000
RRULE:FREQ=YEARLY;BYMONTH=11;BYDAY=1SU
END:STANDARD
END:VTIMEZONE
BEGIN:VEVENT
ORGANIZER:MAILTO:investorrelations@bestbuy.com
DTSTART;TZID="America/New_York":20170301T080000
DTEND;TZID="America/New_York":20170301T090000
LOCATION:
UID:d8d9027c-ba3b-4499-a40c-62084324e1a6
DTSTAMP:20260424T233852
SUMMARY:Q4 FY17 Best Buy Co., Inc. Earnings Conference Call
DESCRIPTION: View More Information: https://investors.bestbuy.com/News--Events/events-and-presentations/events/event-details/2017/Q4-FY17-Best-Buy-Co-Inc-Earnings-Conference-Call/default.aspx
URL;VALUE=URI:https://investors.bestbuy.com/News--Events/events-and-presentations/events/event-details/2017/Q4-FY17-Best-Buy-Co-Inc-Earnings-Conference-Call/default.aspx
PRIORITY:5
CLASS:PUBLIC
END:VEVENT
END:VCALENDAR
